BEGIN:VCALENDAR
VERSION:2.0
PRODID:-//Elo - Emplois Loire Observatoire - ECPv6.15.14//NONSGML v1.0//EN
CALSCALE:GREGORIAN
METHOD:PUBLISH
X-ORIGINAL-URL:https://www.elobs.fr
X-WR-CALDESC:Évènements pour Elo - Emplois Loire Observatoire
REFRESH-INTERVAL;VALUE=DURATION:PT1H
X-Robots-Tag:noindex
X-PUBLISHED-TTL:PT1H
BEGIN:VTIMEZONE
TZID:UTC
BEGIN:STANDARD
TZOFFSETFROM:+0000
TZOFFSETTO:+0000
TZNAME:UTC
DTSTART:20210101T000000
END:STANDARD
END:VTIMEZONE
BEGIN:VEVENT
DTSTART;TZID=UTC:20221103T170000
DTEND;TZID=UTC:20221103T180000
DTSTAMP:20260425T222702
CREATED:20221104T084410Z
LAST-MODIFIED:20221104T084648Z
UID:6938-1667494800-1667498400@www.elobs.fr
SUMMARY:Webinaire #2 - Faciliter sa mission de trésorier d'association : Les clés pour réussir
DESCRIPTION:En partenariat avec le Crédit Agricole\, TL7 et Laurence Raboisson-CROPPI\, nous avons participé à notre 6ème Webinaire sur le thème de : Faciliter sa mission de trésorier d’association \nLe replay est à retrouver ici
URL:https://www.elobs.fr/evenement/webinaire-2-faciliter-sa-mission-de-tresorier-dassociation-les-cles-pour-reussir
CATEGORIES:Public Associations
ATTACH;FMTTYPE=image/png:https://www.elobs.fr/wp-content/uploads/2022/11/Capture-decran-2022-11-04-113155-e1667558028896.png
END:VEVENT
BEGIN:VEVENT
DTSTART;TZID=UTC:20221118T140000
DTEND;TZID=UTC:20221118T160000
DTSTAMP:20260425T222702
CREATED:20221109T141120Z
LAST-MODIFIED:20221109T134041Z
UID:6578-1668780000-1668787200@www.elobs.fr
SUMMARY:Pass'1901 - Formation
DESCRIPTION:Intitulé de la formation :\n La responsabilité des associations et de leurs dirigeants\n  \nÊtre dirigeant d’une association\, c’est accepter de prendre des responsabilités et de travailler bénévolement pour promouvoir une activité\, des valeurs\, des idées et ce malgré parfois des turbulences \n  \n[vc_column_inner width= »1/2″][vc_btn title= »Programme des formations du mois de novembre » link= »url:https%3A%2F%2Fdrive.google.com%2Ffile%2Fd%2F1x28CHI1RBYCs3aqjEs-5PTu7WyK4mkod%2Fview%3Fusp%3Dsharing|title:Je%20t%C3%A9l%C3%A9charge%20le%20programme%20des%20formations|target:_blank »][/vc_column_inner][vc_column_inner width= »1/2″][vc_btn title= »Je m’inscris à une formation » align= »center » link= »url:https%3A%2F%2Fforms.office.com%2Fr%2FW2zXi74aZa|title:je%20m’inscris%20%C3%A0%20une%20ou%20plusieurs%20formations|target:_blank »][vc_column_inner width= »1/2″]
URL:https://www.elobs.fr/evenement/pass1901-formation-2
CATEGORIES:Public Associations
ATTACH;FMTTYPE=image/png:https://www.elobs.fr/wp-content/uploads/2021/07/LOGO_ELO_PASS1901-e1666855590602.png
ORGANIZER;CN="Alexandra Tarel":MAILTO:a.tarel@elobs.fr
END:VEVENT
BEGIN:VEVENT
DTSTART;TZID=UTC:20221123T140000
DTEND;TZID=UTC:20221123T160000
DTSTAMP:20260425T222702
CREATED:20221109T141145Z
LAST-MODIFIED:20221109T134027Z
UID:6612-1669212000-1669219200@www.elobs.fr
SUMMARY:Pass'1901 - Formation
DESCRIPTION:Intitulé de la formation :\nRenforcer la participation des bénévoles au sein de votre association\n\n \nComment attirer les bénévoles\, les consulter et les impliquer dans la co-construction du projet associatif ? Nous vous apporterons quelques techniques d’animation de groupe pour impulser une réelle dynamique de participative. \n  \n[vc_column_inner width= »1/2″][vc_btn title= »Programme des formations du mois de novembre » link= »url:https%3A%2F%2Fdrive.google.com%2Ffile%2Fd%2F1x28CHI1RBYCs3aqjEs-5PTu7WyK4mkod%2Fview%3Fusp%3Dsharing|title:Je%20t%C3%A9l%C3%A9charge%20le%20programme%20des%20formations|target:_blank »][/vc_column_inner][vc_column_inner width= »1/2″][vc_btn title= »Je m’inscris à une formation » align= »center » link= »url:https%3A%2F%2Fforms.office.com%2Fr%2FW2zXi74aZa|title:je%20m’inscris%20%C3%A0%20une%20ou%20plusieurs%20formations|target:_blank »][vc_column_inner width= »1/2″]
URL:https://www.elobs.fr/evenement/pass1901-formation-3
CATEGORIES:Public Associations
ATTACH;FMTTYPE=image/png:https://www.elobs.fr/wp-content/uploads/2021/07/LOGO_ELO_PASS1901-e1666855590602.png
ORGANIZER;CN="Alexandra Tarel":MAILTO:a.tarel@elobs.fr
END:VEVENT
BEGIN:VEVENT
DTSTART;TZID=UTC:20221125T140000
DTEND;TZID=UTC:20221125T160000
DTSTAMP:20260425T222702
CREATED:20221109T141139Z
LAST-MODIFIED:20221109T134020Z
UID:6659-1669384800-1669392000@www.elobs.fr
SUMMARY:Pass'1901 - Formation
DESCRIPTION:Intitulé de la formation :\nComment construire la stratégie de communication digitale de son association\n \nEtre présent sur les réseaux sociaux\, actualiser son site internet\, garder informés ses bénévoles ou les bénéficiaires par mail…On s’y perd facilement\, et il est difficile de prioriser sa stratégie de communication selon les objectifs de son association. Nous vous donnerons quelques clés pour y parvenir. \n[vc_column_inner width= »1/2″][vc_btn title= »Programme des formations du mois de novembre » link= »url:https%3A%2F%2Fdrive.google.com%2Ffile%2Fd%2F1x28CHI1RBYCs3aqjEs-5PTu7WyK4mkod%2Fview%3Fusp%3Dsharing|title:Je%20t%C3%A9l%C3%A9charge%20le%20programme%20des%20formations|target:_blank »][/vc_column_inner][vc_column_inner width= »1/2″][vc_btn title= »Je m’inscris à une formation » align= »center » link= »url:https%3A%2F%2Fforms.office.com%2Fr%2FW2zXi74aZa|title:je%20m’inscris%20%C3%A0%20une%20ou%20plusieurs%20formations|target:_blank »][vc_column_inner width= »1/2″]
URL:https://www.elobs.fr/evenement/pass1901-formation-4
CATEGORIES:Public Associations
ATTACH;FMTTYPE=image/png:https://www.elobs.fr/wp-content/uploads/2021/07/LOGO_ELO_PASS1901-e1666855590602.png
ORGANIZER;CN="Alexandra Tarel":MAILTO:a.tarel@elobs.fr
END:VEVENT
END:VCALENDAR