BEGIN:VCALENDAR
VERSION:2.0
PRODID:-//Elo - Emplois Loire Observatoire - ECPv6.15.14//NONSGML v1.0//EN
CALSCALE:GREGORIAN
METHOD:PUBLISH
X-ORIGINAL-URL:https://www.elobs.fr
X-WR-CALDESC:Évènements pour Elo - Emplois Loire Observatoire
REFRESH-INTERVAL;VALUE=DURATION:PT1H
X-Robots-Tag:noindex
X-PUBLISHED-TTL:PT1H
BEGIN:VTIMEZONE
TZID:Europe/Helsinki
BEGIN:DAYLIGHT
TZOFFSETFROM:+0200
TZOFFSETTO:+0300
TZNAME:EEST
DTSTART:20250330T010000
END:DAYLIGHT
BEGIN:STANDARD
TZOFFSETFROM:+0300
TZOFFSETTO:+0200
TZNAME:EET
DTSTART:20251026T010000
END:STANDARD
BEGIN:DAYLIGHT
TZOFFSETFROM:+0200
TZOFFSETTO:+0300
TZNAME:EEST
DTSTART:20260329T010000
END:DAYLIGHT
BEGIN:STANDARD
TZOFFSETFROM:+0300
TZOFFSETTO:+0200
TZNAME:EET
DTSTART:20261025T010000
END:STANDARD
BEGIN:DAYLIGHT
TZOFFSETFROM:+0200
TZOFFSETTO:+0300
TZNAME:EEST
DTSTART:20270328T010000
END:DAYLIGHT
BEGIN:STANDARD
TZOFFSETFROM:+0300
TZOFFSETTO:+0200
TZNAME:EET
DTSTART:20271031T010000
END:STANDARD
END:VTIMEZONE
BEGIN:VEVENT
DTSTART;TZID=Europe/Helsinki:20260427T083000
DTEND;TZID=Europe/Helsinki:20260427T113000
DTSTAMP:20260424T124855
CREATED:20260415T134943Z
LAST-MODIFIED:20260415T135553Z
UID:9122-1777278600-1777289400@www.elobs.fr
SUMMARY:Eléa Days - 27 avril à Montbrison
DESCRIPTION:Découvrez l’association ELEA et saisissez les opportunités professionnelles des métiers de l’aide à la personne. \nParticipez à un parcours découverte innovant autour de l’association ELEA\, employeur majeur du secteur du service à la personne et de l’accompagnement sur le Département de la Loire. \nPour vous inscrire:
URL:https://www.elobs.fr/evenement/elea-days-27-avril-a-montbrison
LOCATION:Salle Pierre Boulez\, 2 Mont des Visitandines\, Montbrison\, 42600
ATTACH;FMTTYPE=image/png:https://www.elobs.fr/wp-content/uploads/2025/05/ELEA-DAYS.png
ORGANIZER;CN="ELO":MAILTO:camille.stef@elobs.fr
END:VEVENT
BEGIN:VEVENT
DTSTART;TZID=Europe/Helsinki:20260428T083000
DTEND;TZID=Europe/Helsinki:20260428T113000
DTSTAMP:20260424T124855
CREATED:20260415T135257Z
LAST-MODIFIED:20260415T135516Z
UID:9125-1777365000-1777375800@www.elobs.fr
SUMMARY:Eléa Days - 28 avril à Saint-Chamond
DESCRIPTION:Découvrez l’association ELEA et saisissez les opportunités professionnelles des métiers de l’aide à la personne. \nParticipez à un parcours découverte innovant autour de l’association ELEA\, employeur majeur du secteur du service à la personne et de l’accompagnement sur le Département de la Loire. \nPour vous inscrire: \n \n 
URL:https://www.elobs.fr/evenement/elea-days-28-avril-a-saint-chamond
LOCATION:Salle Condorcet\, Avenue Antoine Pinay\, Saint-Chamond\, 42400
CATEGORIES:Demandeurs d'emploi,Etudiants,Jeunes,Personnes en reconversion
ATTACH;FMTTYPE=image/png:https://www.elobs.fr/wp-content/uploads/2025/05/ELEA-DAYS.png
ORGANIZER;CN="ELO":MAILTO:camille.stef@elobs.fr
END:VEVENT
BEGIN:VEVENT
DTSTART;TZID=Europe/Helsinki:20260430T083000
DTEND;TZID=Europe/Helsinki:20260430T113000
DTSTAMP:20260424T124855
CREATED:20260415T135755Z
LAST-MODIFIED:20260415T135821Z
UID:9132-1777537800-1777548600@www.elobs.fr
SUMMARY:Eléa Days - 30 avril à Roanne
DESCRIPTION:Découvrez l’association ELEA et saisissez les opportunités professionnelles des métiers de l’aide à la personne. \nParticipez à un parcours découverte innovant autour de l’association ELEA\, employeur majeur du secteur du service à la personne et de l’accompagnement sur le Département de la Loire. \nPour vous inscrire:
URL:https://www.elobs.fr/evenement/elea-days-30-avril-a-roanne
LOCATION:Maison du Port 2 rue des Charpentiers\, 42300 Roanne\, Maison du Port\, 2 rue des Charpentiers\, Roanne\, 42300\, France
CATEGORIES:Demandeurs d'emploi,Etudiants,Jeunes,Personnes en reconversion
ATTACH;FMTTYPE=image/png:https://www.elobs.fr/wp-content/uploads/2025/05/ELEA-DAYS.png
ORGANIZER;CN="ELO":MAILTO:camille.stef@elobs.fr
END:VEVENT
END:VCALENDAR